BEGIN:VCALENDAR
VERSION:2.0
PRODID:-//Women Veterans Ignited - ECPv6.15.12.2//NONSGML v1.0//EN
CALSCALE:GREGORIAN
METHOD:PUBLISH
X-ORIGINAL-URL:https://forwomenvets.org
X-WR-CALDESC:Events for Women Veterans Ignited
REFRESH-INTERVAL;VALUE=DURATION:PT1H
X-Robots-Tag:noindex
X-PUBLISHED-TTL:PT1H
BEGIN:VTIMEZONE
TZID:America/New_York
BEGIN:DAYLIGHT
TZOFFSETFROM:-0500
TZOFFSETTO:-0400
TZNAME:EDT
DTSTART:20210314T070000
END:DAYLIGHT
BEGIN:STANDARD
TZOFFSETFROM:-0400
TZOFFSETTO:-0500
TZNAME:EST
DTSTART:20211107T060000
END:STANDARD
BEGIN:DAYLIGHT
TZOFFSETFROM:-0500
TZOFFSETTO:-0400
TZNAME:EDT
DTSTART:20220313T070000
END:DAYLIGHT
BEGIN:STANDARD
TZOFFSETFROM:-0400
TZOFFSETTO:-0500
TZNAME:EST
DTSTART:20221106T060000
END:STANDARD
BEGIN:DAYLIGHT
TZOFFSETFROM:-0500
TZOFFSETTO:-0400
TZNAME:EDT
DTSTART:20230312T070000
END:DAYLIGHT
BEGIN:STANDARD
TZOFFSETFROM:-0400
TZOFFSETTO:-0500
TZNAME:EST
DTSTART:20231105T060000
END:STANDARD
END:VTIMEZONE
BEGIN:VEVENT
DTSTART;TZID=America/New_York:20221220T110000
DTEND;TZID=America/New_York:20221220T130000
DTSTAMP:20260424T202842
CREATED:20221102T220631Z
LAST-MODIFIED:20221109T002631Z
UID:5190-1671534000-1671541200@forwomenvets.org
SUMMARY:Children's Christmas Party
DESCRIPTION:Click the Link to Register: \nhttps://www.eventbrite.com/e/childrens-christmas-party-tickets-452941960597
URL:https://forwomenvets.org/event/childrens-christmas-party/
END:VEVENT
END:VCALENDAR