BEGIN:VCALENDAR
VERSION:2.0
PRODID:-//Women Veterans Ignited - ECPv6.15.12.2//NONSGML v1.0//EN
CALSCALE:GREGORIAN
METHOD:PUBLISH
X-ORIGINAL-URL:https://forwomenvets.org
X-WR-CALDESC:Events for Women Veterans Ignited
REFRESH-INTERVAL;VALUE=DURATION:PT1H
X-Robots-Tag:noindex
X-PUBLISHED-TTL:PT1H
BEGIN:VTIMEZONE
TZID:America/New_York
BEGIN:DAYLIGHT
TZOFFSETFROM:-0500
TZOFFSETTO:-0400
TZNAME:EDT
DTSTART:20230312T070000
END:DAYLIGHT
BEGIN:STANDARD
TZOFFSETFROM:-0400
TZOFFSETTO:-0500
TZNAME:EST
DTSTART:20231105T060000
END:STANDARD
BEGIN:DAYLIGHT
TZOFFSETFROM:-0500
TZOFFSETTO:-0400
TZNAME:EDT
DTSTART:20240310T070000
END:DAYLIGHT
BEGIN:STANDARD
TZOFFSETFROM:-0400
TZOFFSETTO:-0500
TZNAME:EST
DTSTART:20241103T060000
END:STANDARD
BEGIN:DAYLIGHT
TZOFFSETFROM:-0500
TZOFFSETTO:-0400
TZNAME:EDT
DTSTART:20250309T070000
END:DAYLIGHT
BEGIN:STANDARD
TZOFFSETFROM:-0400
TZOFFSETTO:-0500
TZNAME:EST
DTSTART:20251102T060000
END:STANDARD
END:VTIMEZONE
BEGIN:VEVENT
DTSTART;VALUE=DATE:20240709
DTEND;VALUE=DATE:20240816
DTSTAMP:20260422T060308
CREATED:20240317T222029Z
LAST-MODIFIED:20240604T202247Z
UID:5936-1720483200-1723766399@forwomenvets.org
SUMMARY:HerTOTALWellness\, Cohort 32
DESCRIPTION:HerTOTALWellness\, Cohort 33\nJuly 9 – August 15\, 2024 \nNow Statewide! HerTOTALWellness Interest Form (google.com) \n103 Century 21 Drive\, Suite 201 \nJacksonville\, FL 32216
URL:https://forwomenvets.org/event/hertotalwellness-cohort-32/
END:VEVENT
END:VCALENDAR