BEGIN:VCALENDAR
VERSION:2.0
PRODID:-//Women Veterans Ignited - ECPv6.15.12.2//NONSGML v1.0//EN
CALSCALE:GREGORIAN
METHOD:PUBLISH
X-WR-CALNAME:Women Veterans Ignited
X-ORIGINAL-URL:https://forwomenvets.org
X-WR-CALDESC:Events for Women Veterans Ignited
REFRESH-INTERVAL;VALUE=DURATION:PT1H
X-Robots-Tag:noindex
X-PUBLISHED-TTL:PT1H
BEGIN:VTIMEZONE
TZID:America/New_York
BEGIN:DAYLIGHT
TZOFFSETFROM:-0500
TZOFFSETTO:-0400
TZNAME:EDT
DTSTART:20230312T070000
END:DAYLIGHT
BEGIN:STANDARD
TZOFFSETFROM:-0400
TZOFFSETTO:-0500
TZNAME:EST
DTSTART:20231105T060000
END:STANDARD
BEGIN:DAYLIGHT
TZOFFSETFROM:-0500
TZOFFSETTO:-0400
TZNAME:EDT
DTSTART:20240310T070000
END:DAYLIGHT
BEGIN:STANDARD
TZOFFSETFROM:-0400
TZOFFSETTO:-0500
TZNAME:EST
DTSTART:20241103T060000
END:STANDARD
BEGIN:DAYLIGHT
TZOFFSETFROM:-0500
TZOFFSETTO:-0400
TZNAME:EDT
DTSTART:20250309T070000
END:DAYLIGHT
BEGIN:STANDARD
TZOFFSETFROM:-0400
TZOFFSETTO:-0500
TZNAME:EST
DTSTART:20251102T060000
END:STANDARD
END:VTIMEZONE
BEGIN:VEVENT
DTSTART;VALUE=DATE:20241107
DTEND;VALUE=DATE:20241108
DTSTAMP:20260421T104100
CREATED:20240729T191309Z
LAST-MODIFIED:20240729T191906Z
UID:6255-1730937600-1731023999@forwomenvets.org
SUMMARY:Swings for Service Charity Golf Tournament 
DESCRIPTION:Swings for Service Charity Golf Tournament\nNovember 7\, 2024\nRegistration Link: 2024 Swings for Service Charity Golf Tournament (stjohnsgolf.com)
URL:https://forwomenvets.org/event/swings-for-service-charity-golf-tournament/
END:VEVENT
END:VCALENDAR