BEGIN:VCALENDAR
VERSION:2.0
PRODID:-//Women Veterans Ignited - ECPv6.15.12.2//NONSGML v1.0//EN
CALSCALE:GREGORIAN
METHOD:PUBLISH
X-ORIGINAL-URL:https://forwomenvets.org
X-WR-CALDESC:Events for Women Veterans Ignited
REFRESH-INTERVAL;VALUE=DURATION:PT1H
X-Robots-Tag:noindex
X-PUBLISHED-TTL:PT1H
BEGIN:VTIMEZONE
TZID:America/New_York
BEGIN:DAYLIGHT
TZOFFSETFROM:-0500
TZOFFSETTO:-0400
TZNAME:EDT
DTSTART:20230312T070000
END:DAYLIGHT
BEGIN:STANDARD
TZOFFSETFROM:-0400
TZOFFSETTO:-0500
TZNAME:EST
DTSTART:20231105T060000
END:STANDARD
BEGIN:DAYLIGHT
TZOFFSETFROM:-0500
TZOFFSETTO:-0400
TZNAME:EDT
DTSTART:20240310T070000
END:DAYLIGHT
BEGIN:STANDARD
TZOFFSETFROM:-0400
TZOFFSETTO:-0500
TZNAME:EST
DTSTART:20241103T060000
END:STANDARD
BEGIN:DAYLIGHT
TZOFFSETFROM:-0500
TZOFFSETTO:-0400
TZNAME:EDT
DTSTART:20250309T070000
END:DAYLIGHT
BEGIN:STANDARD
TZOFFSETFROM:-0400
TZOFFSETTO:-0500
TZNAME:EST
DTSTART:20251102T060000
END:STANDARD
END:VTIMEZONE
BEGIN:VEVENT
DTSTART;TZID=America/New_York:20241116T123000
DTEND;TZID=America/New_York:20241116T133000
DTSTAMP:20260421T103813
CREATED:20240729T191514Z
LAST-MODIFIED:20240729T191514Z
UID:6260-1731760200-1731763800@forwomenvets.org
SUMMARY:HerVOICE Live Presentation at the Durkeeville Historical Society
DESCRIPTION:HerVOICE Live Presentation at the Durkeeville Historical Society\nNovember 16\, 2024\n12:30 pm\nMore details coming soon
URL:https://forwomenvets.org/event/hervoice-live-presentation-at-the-durkeeville-historical-society/
END:VEVENT
END:VCALENDAR