BEGIN:VCALENDAR
VERSION:2.0
PRODID:-//Women Veterans Ignited - ECPv6.15.12.2//NONSGML v1.0//EN
CALSCALE:GREGORIAN
METHOD:PUBLISH
X-ORIGINAL-URL:https://forwomenvets.org
X-WR-CALDESC:Events for Women Veterans Ignited
REFRESH-INTERVAL;VALUE=DURATION:PT1H
X-Robots-Tag:noindex
X-PUBLISHED-TTL:PT1H
BEGIN:VTIMEZONE
TZID:America/New_York
BEGIN:DAYLIGHT
TZOFFSETFROM:-0500
TZOFFSETTO:-0400
TZNAME:EDT
DTSTART:20240310T070000
END:DAYLIGHT
BEGIN:STANDARD
TZOFFSETFROM:-0400
TZOFFSETTO:-0500
TZNAME:EST
DTSTART:20241103T060000
END:STANDARD
BEGIN:DAYLIGHT
TZOFFSETFROM:-0500
TZOFFSETTO:-0400
TZNAME:EDT
DTSTART:20250309T070000
END:DAYLIGHT
BEGIN:STANDARD
TZOFFSETFROM:-0400
TZOFFSETTO:-0500
TZNAME:EST
DTSTART:20251102T060000
END:STANDARD
BEGIN:DAYLIGHT
TZOFFSETFROM:-0500
TZOFFSETTO:-0400
TZNAME:EDT
DTSTART:20260308T070000
END:DAYLIGHT
BEGIN:STANDARD
TZOFFSETFROM:-0400
TZOFFSETTO:-0500
TZNAME:EST
DTSTART:20261101T060000
END:STANDARD
END:VTIMEZONE
BEGIN:VEVENT
DTSTART;TZID=America/New_York:20250510T100000
DTEND;TZID=America/New_York:20250510T130000
DTSTAMP:20260421T042720
CREATED:20250417T184321Z
LAST-MODIFIED:20250417T184419Z
UID:6612-1746871200-1746882000@forwomenvets.org
SUMMARY:Picnic at the Park
DESCRIPTION:When: Saturday\, May 10\, from 10:00 AM – 1:00 PM \nWhere: Memorial Park – 1620 Riverside Ave\, Jacksonville\, FL 32204 (Located at the corners of Riverside Ave & Margaret St or Riverside Ave & Memorial Park Dr) \nAbout: 🌸 Women-Only Gathering for Alumni\, Friends\, Volunteers & Ambassadors🌸 \nOur 2023 picnic at Memorial Park was such a beautiful day of connection\, laughter\, and sisterhood — we’re bringing it back and making it even bigger! Join us for a casual and fun-filled picnic where you can reunite with familiar faces\, make new friends\, and connect with women who share the heart of our mission. Whether you’ve been with us for years or just learning who we are\, we’d love to meet you. Let’s enjoy the sun (or shade)\, some sisterhood\, and a little peace in the park together.  Bring your blanket\, lawn chair\, picnic basket\, and your good vibes.  Look for our tall feather flag with the logo — you can’t miss us!  We can’t wait to see you there! \nPlease Register at: https://form.jotform.com/250995844586173 \n📞 Questions? Call/Text Sharleen at (904) 201-9762 or email her at sdeary@forwomenvets.org. She can also be reached by calling our office at (904) 862-6039. \n 
URL:https://forwomenvets.org/event/picnic-at-the-park/
END:VEVENT
END:VCALENDAR