BEGIN:VCALENDAR
VERSION:2.0
PRODID:-//Women Veterans Ignited - ECPv6.15.12.2//NONSGML v1.0//EN
CALSCALE:GREGORIAN
METHOD:PUBLISH
X-ORIGINAL-URL:https://forwomenvets.org
X-WR-CALDESC:Events for Women Veterans Ignited
REFRESH-INTERVAL;VALUE=DURATION:PT1H
X-Robots-Tag:noindex
X-PUBLISHED-TTL:PT1H
BEGIN:VTIMEZONE
TZID:America/New_York
BEGIN:DAYLIGHT
TZOFFSETFROM:-0500
TZOFFSETTO:-0400
TZNAME:EDT
DTSTART:20220313T070000
END:DAYLIGHT
BEGIN:STANDARD
TZOFFSETFROM:-0400
TZOFFSETTO:-0500
TZNAME:EST
DTSTART:20221106T060000
END:STANDARD
BEGIN:DAYLIGHT
TZOFFSETFROM:-0500
TZOFFSETTO:-0400
TZNAME:EDT
DTSTART:20230312T070000
END:DAYLIGHT
BEGIN:STANDARD
TZOFFSETFROM:-0400
TZOFFSETTO:-0500
TZNAME:EST
DTSTART:20231105T060000
END:STANDARD
BEGIN:DAYLIGHT
TZOFFSETFROM:-0500
TZOFFSETTO:-0400
TZNAME:EDT
DTSTART:20240310T070000
END:DAYLIGHT
BEGIN:STANDARD
TZOFFSETFROM:-0400
TZOFFSETTO:-0500
TZNAME:EST
DTSTART:20241103T060000
END:STANDARD
END:VTIMEZONE
BEGIN:VEVENT
DTSTART;TZID=America/New_York:20231213T110000
DTEND;TZID=America/New_York:20231213T130000
DTSTAMP:20260420T041044
CREATED:20231210T024826Z
LAST-MODIFIED:20231210T024826Z
UID:5706-1702465200-1702472400@forwomenvets.org
SUMMARY:Veteran Children's Christmas Party
DESCRIPTION:Veteran Children’s Christmas Party\nDecember 13\, 2023 \nRegistration is closed as we are at capacity.
URL:https://forwomenvets.org/event/veteran-childrens-christmas-party/
END:VEVENT
END:VCALENDAR