BEGIN:VCALENDAR
VERSION:2.0
PRODID:-//Women Veterans Ignited - ECPv6.15.12.2//NONSGML v1.0//EN
CALSCALE:GREGORIAN
METHOD:PUBLISH
X-ORIGINAL-URL:https://forwomenvets.org
X-WR-CALDESC:Events for Women Veterans Ignited
REFRESH-INTERVAL;VALUE=DURATION:PT1H
X-Robots-Tag:noindex
X-PUBLISHED-TTL:PT1H
BEGIN:VTIMEZONE
TZID:America/New_York
BEGIN:DAYLIGHT
TZOFFSETFROM:-0500
TZOFFSETTO:-0400
TZNAME:EDT
DTSTART:20240310T070000
END:DAYLIGHT
BEGIN:STANDARD
TZOFFSETFROM:-0400
TZOFFSETTO:-0500
TZNAME:EST
DTSTART:20241103T060000
END:STANDARD
BEGIN:DAYLIGHT
TZOFFSETFROM:-0500
TZOFFSETTO:-0400
TZNAME:EDT
DTSTART:20250309T070000
END:DAYLIGHT
BEGIN:STANDARD
TZOFFSETFROM:-0400
TZOFFSETTO:-0500
TZNAME:EST
DTSTART:20251102T060000
END:STANDARD
BEGIN:DAYLIGHT
TZOFFSETFROM:-0500
TZOFFSETTO:-0400
TZNAME:EDT
DTSTART:20260308T070000
END:DAYLIGHT
BEGIN:STANDARD
TZOFFSETFROM:-0400
TZOFFSETTO:-0500
TZNAME:EST
DTSTART:20261101T060000
END:STANDARD
END:VTIMEZONE
BEGIN:VEVENT
DTSTART;TZID=America/New_York:20250606T100000
DTEND;TZID=America/New_York:20250606T113000
DTSTAMP:20260421T042952
CREATED:20250529T182127Z
LAST-MODIFIED:20250529T182315Z
UID:7022-1749204000-1749209400@forwomenvets.org
SUMMARY:HerTOTALWellness Cohort 33 Graduation
DESCRIPTION:Our HerTOTALWellness Program took a short break as we revamped and refreshed the workshops\, and we’re excited to announce that they’re back! We’re celebrating this new chapter with our first graduation on June 6th\, and we hope you’ll join us to hear directly from the women who participated. They’ll be sharing their thoughts on the program and the powerful journeys they’ve experienced along the way. \nJoin us in person at our office: 103 Century 21 Drive\, Suite 201\, Jacksonville\, FL 32216 or Zoom. If the link doesn’t work\, please use Meeting ID: 822 3690 6132 and Passcode: 894 052. \n  \n \n 
URL:https://forwomenvets.org/event/hertotalwellness-cohort-33-graduation/
END:VEVENT
BEGIN:VEVENT
DTSTART;TZID=America/New_York:20250607T090000
DTEND;TZID=America/New_York:20250607T170000
DTSTAMP:20260421T042952
CREATED:20250423T191304Z
LAST-MODIFIED:20250512T141736Z
UID:6619-1749286800-1749315600@forwomenvets.org
SUMMARY:FDVA Women Veterans Conference
DESCRIPTION:The Florida Department of Veterans Affairs is hosting its annual Women Veterans Conference and will be held in Tallahassee this year.  There’s a movie night on Friday\, June 6th\, followed by the conference on Saturday\, June 7th. Registration to the conference can be made at: Women Veterans P.A.C.T Event – Rooted in Strength – Rising in Unity. \n  \nWe are also offering bus transportation from our office to the conference on June 7th. You can secure your spot for a refundable fee of $10 at https://form.jotform.com/251265422183048.  We will leave on June 7th and return the same day.  Charter bus details can be found on the registration page. \n  \n \n  \n \n  \n  \n  \n  \n  \n 
URL:https://forwomenvets.org/event/fdva-women-veterans-conference/
LOCATION:Al Lawson Multipurpose Center\, 1800 Wanish Way\, Tallahassee\, FL\, 32307\, United States
END:VEVENT
BEGIN:VEVENT
DTSTART;VALUE=DATE:20250608
DTEND;VALUE=DATE:20250615
DTSTAMP:20260421T042952
CREATED:20241212T010100Z
LAST-MODIFIED:20250331T183403Z
UID:6457-1749340800-1749945599@forwomenvets.org
SUMMARY:Annual Women Veterans Recognition Week
DESCRIPTION:June 8 – 14 \nSAVE THE DATES! \nOur Annual Women Veterans Recognition Week is fast approaching\, and we are in the final planning stages. Be sure to tune into our social pages or visit our website to see what we have planned this year. \n 
URL:https://forwomenvets.org/event/annual-women-veterans-recognition-week/
END:VEVENT
BEGIN:VEVENT
DTSTART;TZID=America/New_York:20250608T093000
DTEND;TZID=America/New_York:20250608T120000
DTSTAMP:20260421T042952
CREATED:20250512T142318Z
LAST-MODIFIED:20250512T142825Z
UID:6726-1749375000-1749384000@forwomenvets.org
SUMMARY:WOR Church Fellowship
DESCRIPTION:June 8 @ 9:30 am – ?? \nChurch Fellowship \nBethel Church \n215 Bethel Baptist Street \nJacksonville\, FL 32202 \nAll Women Veterans Week of Recognition Event registrations can be found and submitted at https://form.jotform.com/251244622842150
URL:https://forwomenvets.org/event/wor-church-fellowship/
END:VEVENT
BEGIN:VEVENT
DTSTART;TZID=America/New_York:20250608T160000
DTEND;TZID=America/New_York:20250608T190000
DTSTAMP:20260421T042952
CREATED:20250512T143017Z
LAST-MODIFIED:20250605T160041Z
UID:6730-1749398400-1749409200@forwomenvets.org
SUMMARY:WOR Women Who Rock Awards Tea Party
DESCRIPTION:June 8 @ 4:00 pm – 7:00 pm \nWomen Who Rock Awards Tea Party \nCost: \n$10 for volunteers \n$20 for all others \nBrick & Beam \n1101 N Main Street \nJacksonville\, FL 32206 \nTea Party registration: https://www.eventbrite.com/e/1372619484829?aff=oddtdtcreator \nAll Women Veterans Week of Recognition Event registrations can be found and submitted at https://form.jotform.com/251244622842150
URL:https://forwomenvets.org/event/wor-women-who-rock-awards-tea-party/
END:VEVENT
BEGIN:VEVENT
DTSTART;TZID=America/New_York:20250609T113000
DTEND;TZID=America/New_York:20250609T123000
DTSTAMP:20260421T042952
CREATED:20250512T143203Z
LAST-MODIFIED:20250529T181601Z
UID:6732-1749468600-1749472200@forwomenvets.org
SUMMARY:WOR Opening Ceremony & Proclamation
DESCRIPTION:June 9 @ 11:30 am \nOpening Ceremony & Proclamation \nCity Hall Atrium \n117 West Duval Street \nJacksonville\, FL 32202 \nAll Women Veterans Week of Recognition Event registrations can be found and submitted at https://form.jotform.com/251244622842150
URL:https://forwomenvets.org/event/wor-opening-ceremony-proclamation/
END:VEVENT
BEGIN:VEVENT
DTSTART;TZID=America/New_York:20250610T090000
DTEND;TZID=America/New_York:20250610T130000
DTSTAMP:20260421T042952
CREATED:20250512T143321Z
LAST-MODIFIED:20250520T155017Z
UID:6734-1749546000-1749560400@forwomenvets.org
SUMMARY:WOR Mental Health Summit for Professionals
DESCRIPTION:June 10 @ 9:00 am – 1:00 pm \nMental Health Summit for Professionals \nSalem Centre \n7235 Bonneval Road \nJacksonville\, FL 32256 \nAll Women Veterans Week of Recognition Event registrations can be found and submitted at https://form.jotform.com/251244622842150
URL:https://forwomenvets.org/event/wor-mental-health-summit-for-professionals/
END:VEVENT
BEGIN:VEVENT
DTSTART;TZID=America/New_York:20250611T110000
DTEND;TZID=America/New_York:20250611T130000
DTSTAMP:20260421T042952
CREATED:20250512T143553Z
LAST-MODIFIED:20250610T015929Z
UID:6737-1749639600-1749646800@forwomenvets.org
SUMMARY:WOR Lunch & Learn
DESCRIPTION:June 11 @ 11:00 am – 1:00 pm \nLunch & Learn \n“Trauma to Triumph on the Pages”; “Writing for Healing” \nCost: $20 \nParking is available in the lower-level garage of the building\, which is located on S. Laura Street and the corner of W. Bay Street. Please bring your parking ticket to the River Club to have it validated. \nThe River Club\, Ortega Room \n1 Independent Drive \nJacksonville\, FL 32202 \nAll Women Veterans Week of Recognition Event registrations can be found and submitted at https://form.jotform.com/251244622842150 \n 
URL:https://forwomenvets.org/event/wor-lunch-learn/
END:VEVENT
BEGIN:VEVENT
DTSTART;TZID=America/New_York:20250612T100000
DTEND;TZID=America/New_York:20250612T140000
DTSTAMP:20260421T042952
CREATED:20250512T144046Z
LAST-MODIFIED:20250512T144256Z
UID:6739-1749722400-1749736800@forwomenvets.org
SUMMARY:WOR VA Women Veterans Appreciation Event
DESCRIPTION:June 12 @ 10:00 am – 2:00 pm \nVA Women Veterans Appreciation Event \nJacksonville North VA OPC\, 2nd Floor \n145 Heron Bay Road \nJacksonville\, FL 32218 \nPOC: Cheryl Tillman\, (352) 547-1900 ext. 185117 \nCelebrating Women’s Healthcare at the VA – Florida Department of Veterans’ Affairs
URL:https://forwomenvets.org/event/wor-va-women-veterans-appreciation-event/
END:VEVENT
BEGIN:VEVENT
DTSTART;TZID=America/New_York:20250613T090000
DTEND;TZID=America/New_York:20250613T130000
DTSTAMP:20260421T042952
CREATED:20250512T144841Z
LAST-MODIFIED:20250603T132331Z
UID:6741-1749805200-1749819600@forwomenvets.org
SUMMARY:WOR VSO Forum
DESCRIPTION:June 13 @ 9:00 am – 1:00 pm \nVSO Forum presented by the FDVA \nWounded Warrior Project HQ \n4899 Belfort Road \nJacksonville\, FL 32256 \nAs part of this year’s week-long celebration\, we have once again partnered with the FDVA to bring back the VSO Forum. Mrs. Vanessa Thomas will be facilitating this event\, and we invite you to join us to learn about important updates regarding claims and benefits. This is a free event that comes with lunch and is open to service officers and organizations that provide assistance with VA claims and benefits. \nAll Women Veterans Week of Recognition Event registrations can be found and submitted at https://form.jotform.com/251244622842150 \nOr if you can’t make it to any other WOR event\, you may register only for the VSO forum at https://www.eventbrite.com/e/women-veterans-vso-forum-tickets-1394585545909
URL:https://forwomenvets.org/event/wor-vso-forum/
END:VEVENT
BEGIN:VEVENT
DTSTART;TZID=America/New_York:20250614T180000
DTEND;TZID=America/New_York:20250614T223000
DTSTAMP:20260421T042952
CREATED:20250512T145220Z
LAST-MODIFIED:20250520T155246Z
UID:6743-1749924000-1749940200@forwomenvets.org
SUMMARY:WOR Gala
DESCRIPTION:June 14 @ 6:00 pm – ?? \nWomen Veterans Recognition Gala \nCost $100 | $120 on and after June 1st \nGuest Speaker: Ann-Marie Knight\, Vice President\, Community Engagement\, UF Health \nSouthbank Hotel at Jacksonville Riverwalk Ballroom \n1515 Prudential Drive \nJacksonville\, FL 32207 \nReception begins at 6:00 pm \nGala begins at 6:30 pm \nAll Women Veterans Week of Recognition Event registrations can be found and submitted at https://form.jotform.com/251244622842150 \n  \n \n 
URL:https://forwomenvets.org/event/wor-gala/
END:VEVENT
END:VCALENDAR